BEGIN:VCALENDAR
VERSION:2.0
PRODID:-//Tukios.com/
BEGIN:VEVENT
UID:d27c876b-a34c-46f9-b3a9-4ed89c6759df@obituaries.zerklefh.com
DTSTAMP:20260423T000207Z
DTSTART:20260425T140000Z
DTEND:20260425T150000Z
SUMMARY:Visitation
DESCRIPTION:
URL:https://obituaries.zerklefh.com/obituaries/sandra-holmes
LOCATION: 11900 N Dixie Dr  Tipp City OH 04537
GEO:39.9224396;-84.1981425
END:VEVENT
END:VCALENDAR