BEGIN:VCALENDAR
VERSION:2.0
PRODID:-//Tukios.com/
BEGIN:VEVENT
UID:c4080520-1450-411e-b7db-5f7839d47696@obituaries.zerklefh.com
DTSTAMP:20260422T235501Z
DTSTART:20260425T150000Z
DTEND:20260425T160000Z
SUMMARY:Funeral Service
DESCRIPTION:
URL:https://obituaries.zerklefh.com/obituaries/sandra-holmes
LOCATION: 11900 N Dixie Dr  Tipp City OH 04537
GEO:39.9224396;-84.1981425
END:VEVENT
END:VCALENDAR