BEGIN:VCALENDAR
VERSION:2.0
PRODID:-//Tukios.com/
BEGIN:VEVENT
UID:5fb256b0-b94a-432b-beea-452b029c8a8f@obituaries.zerklefh.com
DTSTAMP:20260422T235704Z
DTSTART:20260425
SUMMARY:Burial
DESCRIPTION:
URL:https://obituaries.zerklefh.com/obituaries/sandra-holmes
LOCATION: 11890 North Dixie Drive  Tipp City OH 45371
GEO:39.9222017;-84.1986055
END:VEVENT
END:VCALENDAR